BEGIN:VCALENDAR
VERSION:2.0
PRODID:-//wp-events-plugin.com//7.2.3.1//EN
BEGIN:VEVENT
UID:16@associazioneculturalearmonia.com
DTSTART;TZID=Europe/Rome:20241029T193000
DTEND;TZID=Europe/Rome:20241029T213000
DTSTAMP:20241013T092635Z
URL:https://associazioneculturalearmonia.com/eventi/maestri-in-concerto-co
 ncerto-pianistico-a-4-mani-m-tutu-aydinoglu-e-m-aldo-ragone/
SUMMARY:Maestri in Concerto: Concerto Pianistico a 4 Mani - M° Tutu Aydino
 glu e M° Aldo Ragone
DESCRIPTION:Un concerto pianistico a 4 mani è un evento musicale in cui du
 e pianisti suonano insieme sullo stesso pianoforte\, creando un’armonia 
 unica e affascinante. Questa forma di esecuzione permette di esplorare una
  vasta gamma di sonorità e dinamiche\, rendendo le performance particolar
 mente coinvolgenti per il pubblico. Il concerto pianistico a 4 mani in pro
 gramma offrirà opere del grande repertorio classico\, presentando composi
 zioni di due dei più celebri maestri della musica: Johannes Brahms e Wolf
 gang Amadeus Mozart.\nDettagli dell'Evento\n- Location: Castello Baronale 
 di Macchia d'Isernia\n- Data: 29 Ottobre 2024\n- Ore: 19:30\nInterpreti\nT
 utu Aydinoglu\nIl M° Tutu Aydinoglu è una pianista di fama internazional
 e\, conosciuta per la sua versatilità e la profonda sensibilità interpre
 tativa. Ha studiato presso prestigiosi conservatori e si è esibita in num
 erosi festival e rassegne in tutto il mondo\, conquistando il pubblico con
  la sua tecnica impeccabile e la sua capacità di esprimere le emozioni pi
 ù profonde attraverso la musica.\nProfessore di Pianoforte al Conservator
 io Statale di Istanbul\, Turchia\, svolge concerti e masterclass in tutto 
 il mondo e scrive molti articoli sulla musica.\nAldo Ragone\nIl M° Aldo R
 agone è un pianista e docente di grande esperienza\, apprezzato per la su
 a abilità nell’interpretare un ampio repertorio musicale. Laureato in p
 ianoforte\, il M° Ragone ha una carriera costellata di concerti sia come 
 Solista che in Orchestra e Formazioni. È molto attivo nella formazione de
 i giovani musicisti\, come Docente del Conservatorio "L. Perosi" di Campob
 asso e ha svolto un ruolo significativo nel panorama musicale italiano e i
 nternazionale\, contribuendo alla valorizzazione della musica classica. La
  sua passione per la musica si riflette nelle sue interpretazioni\, sempre
  caratterizzate da un'energia contagiosa e da un profondo rispetto per il 
 testo musicale.\nPrenotazione\nNon perdere l'opportunità di assistere a q
 uesto straordinario concerto a quattro mani nel suggestivo Castello Barona
 le di Macchia d'Isernia. Prenota il tuo biglietto ora e preparati a vivere
  una serata di grande musica\, in compagnia di due talentuosi pianisti che
  daranno vita alle opere di Brahms e Mozart.\n---\n\nPer ulteriori informa
 zioni o domande\, non esitare a contattarci. Ti aspettiamo per un'esperien
 za musicale indimenticabile!\n\n[caption id="attachment_557" align="alignc
 enter" width="616"] M° Aldo Ragone[/caption]\n\n[caption id="attachment_9
 18" align="aligncenter" width="750"] M° Tutu Aydinoglu[/caption]
ATTACH;FMTTYPE=image/jpeg:https://associazioneculturalearmonia.com/wp-cont
 ent/uploads/2024/10/Concerto-4-mani-29-Ottobre-2024.jpg
CATEGORIES:Concerti,Musica
LOCATION:Castello Baronale di Macchia d'Isernia\, Via del Popolo\, Macchia 
 d'Isernia\, IS\, 86070\, Molise\, Italia
X-APPLE-STRUCTURED-LOCATION;VALUE=URI;X-ADDRESS=Via del Popolo\, Macchia d'
 Isernia\, IS\, 86070\, Molise\, Italia;X-APPLE-RADIUS=100;X-TITLE=Castello
  Baronale di Macchia d'Isernia:geo:0,0
END:VEVENT
BEGIN:VTIMEZONE
TZID:Europe/Rome
X-LIC-LOCATION:Europe/Rome
BEGIN:STANDARD
DTSTART:20241027T020000
TZOFFSETFROM:+0200
TZOFFSETTO:+0100
TZNAME:CET
END:STANDARD
END:VTIMEZONE
END:VCALENDAR